BEGIN:VCALENDAR
VERSION:2.0
PRODID:-//Igualdad para el desarrollo - ECPv6.15.20//NONSGML v1.0//EN
CALSCALE:GREGORIAN
METHOD:PUBLISH
X-ORIGINAL-URL:https://www.igualdadparaeldesarrollo.org
X-WR-CALDESC:Eventos para Igualdad para el desarrollo
REFRESH-INTERVAL;VALUE=DURATION:PT1H
X-Robots-Tag:noindex
X-PUBLISHED-TTL:PT1H
BEGIN:VTIMEZONE
TZID:America/New_York
BEGIN:DAYLIGHT
TZOFFSETFROM:-0500
TZOFFSETTO:-0400
TZNAME:EDT
DTSTART:20250309T070000
END:DAYLIGHT
BEGIN:STANDARD
TZOFFSETFROM:-0400
TZOFFSETTO:-0500
TZNAME:EST
DTSTART:20251102T060000
END:STANDARD
BEGIN:DAYLIGHT
TZOFFSETFROM:-0500
TZOFFSETTO:-0400
TZNAME:EDT
DTSTART:20260308T070000
END:DAYLIGHT
BEGIN:STANDARD
TZOFFSETFROM:-0400
TZOFFSETTO:-0500
TZNAME:EST
DTSTART:20261101T060000
END:STANDARD
BEGIN:DAYLIGHT
TZOFFSETFROM:-0500
TZOFFSETTO:-0400
TZNAME:EDT
DTSTART:20270314T070000
END:DAYLIGHT
BEGIN:STANDARD
TZOFFSETFROM:-0400
TZOFFSETTO:-0500
TZNAME:EST
DTSTART:20271107T060000
END:STANDARD
END:VTIMEZONE
BEGIN:VEVENT
DTSTART;TZID=America/New_York:20260425T090000
DTEND;TZID=America/New_York:20260425T120000
DTSTAMP:20260421T042610
CREATED:20260408T162501Z
LAST-MODIFIED:20260408T162501Z
UID:4311-1777107600-1777118400@www.igualdadparaeldesarrollo.org
SUMMARY:📚✨ Tesoros de Papel: Colecta de Libros ✨📚
DESCRIPTION:Este 25 de abril\, te invitamos a ser parte de una iniciativa que transforma historias en oportunidades 💛 \nLa ONG Igualdad para el Desarrollo organiza una nueva jornada de colecta de libros\, con el propósito de llevar conocimiento\, inspiración y nuevas posibilidades a más personas 📖🌱 \n¿Tienes libros en buen estado que ya no utilizas? Este es el momento perfecto para darles una segunda vida. Cada libro donado puede marcar la diferencia en la vida de alguien más ✨ \n🤝 Súmate\, dona y sé parte del cambio.\nPorque un libro no solo se lee… también transforma vidas 💫
URL:https://www.igualdadparaeldesarrollo.org/evento/%f0%9f%93%9a%e2%9c%a8-tesoros-de-papel-colecta-de-libros-%e2%9c%a8%f0%9f%93%9a-2/
LOCATION:Pentamall (Av. Mansiche I701 – I799)\, Pentamall (Av. Mansiche I701 - I799)
ATTACH;FMTTYPE=image/jpeg:https://www.igualdadparaeldesarrollo.org/wp-content/uploads/2026/04/WhatsApp-Image-2026-04-08-at-11.01.53-AM.jpeg
END:VEVENT
END:VCALENDAR