BEGIN:VCALENDAR
VERSION:2.0
PRODID:-//Igualdad para el desarrollo - ECPv6.15.20//NONSGML v1.0//EN
CALSCALE:GREGORIAN
METHOD:PUBLISH
X-ORIGINAL-URL:https://www.igualdadparaeldesarrollo.org
X-WR-CALDESC:Eventos para Igualdad para el desarrollo
REFRESH-INTERVAL;VALUE=DURATION:PT1H
X-Robots-Tag:noindex
X-PUBLISHED-TTL:PT1H
BEGIN:VTIMEZONE
TZID:America/New_York
BEGIN:DAYLIGHT
TZOFFSETFROM:-0500
TZOFFSETTO:-0400
TZNAME:EDT
DTSTART:20250309T070000
END:DAYLIGHT
BEGIN:STANDARD
TZOFFSETFROM:-0400
TZOFFSETTO:-0500
TZNAME:EST
DTSTART:20251102T060000
END:STANDARD
BEGIN:DAYLIGHT
TZOFFSETFROM:-0500
TZOFFSETTO:-0400
TZNAME:EDT
DTSTART:20260308T070000
END:DAYLIGHT
BEGIN:STANDARD
TZOFFSETFROM:-0400
TZOFFSETTO:-0500
TZNAME:EST
DTSTART:20261101T060000
END:STANDARD
BEGIN:DAYLIGHT
TZOFFSETFROM:-0500
TZOFFSETTO:-0400
TZNAME:EDT
DTSTART:20270314T070000
END:DAYLIGHT
BEGIN:STANDARD
TZOFFSETFROM:-0400
TZOFFSETTO:-0500
TZNAME:EST
DTSTART:20271107T060000
END:STANDARD
END:VTIMEZONE
BEGIN:VEVENT
DTSTART;TZID=America/New_York:20260411T090000
DTEND;TZID=America/New_York:20260411T120000
DTSTAMP:20260423T065956
CREATED:20260408T160827Z
LAST-MODIFIED:20260408T160827Z
UID:4306-1775898000-1775908800@www.igualdadparaeldesarrollo.org
SUMMARY:📚✨ Tesoros de Papel: Colecta de Libros ✨📚
DESCRIPTION:Este 11 de abril\, de 9:00 a.m. a 12:00 p.m.\, te invitamos a ser parte de una hermosa iniciativa que busca dar nueva vida a los libros y llevar conocimiento a más personas. 💛\nLa ONG Igualdad para el Desarrollo organiza “Tesoros de Papel”\, una jornada de colecta de libros en la Plazuela El Recreo (Pasaje Pizarro\, Trujillo).\nSi tienes libros en buen estado que ya no uses\, ¡este es el momento perfecto para compartirlos! Cada libro donado puede convertirse en una oportunidad de aprendizaje\, inspiración y crecimiento para alguien más. 📖🌱\n🤝 Súmate\, dona y ayúdanos a transformar historias en oportunidades.\nPorque un libro puede cambiar una vida.
URL:https://www.igualdadparaeldesarrollo.org/evento/%f0%9f%93%9a%e2%9c%a8-tesoros-de-papel-colecta-de-libros-%e2%9c%a8%f0%9f%93%9a/
LOCATION:Plazuela El Recreo\, Plazuela El Recreo
ATTACH;FMTTYPE=image/jpeg:https://www.igualdadparaeldesarrollo.org/wp-content/uploads/2026/04/WhatsApp-Image-2026-04-08-at-11.01.52-AM.jpeg
ORGANIZER;CN="Igualdad  para el Desarrollo":MAILTO:comunicaciones@igualdadparaeldesarrollo.org
END:VEVENT
END:VCALENDAR